BEGIN:VCALENDAR
VERSION:2.0
PRODID:-//eventon.com NONSGML v1.0//EN
CALSCALE:GREGORIAN
METHOD:PUBLISH
BEGIN:VEVENT
UID:69e9d865b9f90
DTSTAMP:20260423T082925
DTSTART:20160122T093000Z
DTEND:20160122T133000Z
TZID:UTC
LOCATION:
SUMMARY:Automated External Defibrillator (AED) Course
DESCRIPTION:Our open course per person cost is £50.00 Plus VAT For competitive group prices call the office on (028) 9122 8101 To book onto one of our open courses click below:  The course Syllabus Includes:  First Aid Priorities Managing Incidents Basic Life Support Cardiopulmonary Resuscitation CPR Examination of a Casualty Heart Attacks\,  Angina[..]\nhttps://ndfatraining.co.uk/events/automated-external-defibrillator-aed-course-6/
URL:https://ndfatraining.co.uk/events/automated-external-defibrillator-aed-course-6/
END:VEVENT
END:VCALENDAR