BEGIN:VCALENDAR
VERSION:2.0
PRODID:-//eventon.com NONSGML v1.0//EN
CALSCALE:GREGORIAN
METHOD:PUBLISH
BEGIN:VEVENT
UID:69e7340914f52
DTSTAMP:20260421T082337
DTSTART:20160218T091500Z
DTEND:20160218T163000Z
TZID:UTC
LOCATION:
SUMMARY:HSENI Emergency First Aid at work Course
DESCRIPTION:Our open course per person cost is £70.00 plus VAT For competitive group prices call the office on (028) 9122 8101 This is a HSENI Approved 1 day Emergency First Aid at Work course which has been adapted to suit a particular audience and is an ideal course for lower[..]\nhttps://ndfatraining.co.uk/events/emergency-first-aid-work-course-2/
URL:https://ndfatraining.co.uk/events/emergency-first-aid-work-course-2/
END:VEVENT
END:VCALENDAR