BEGIN:VCALENDAR
VERSION:2.0
PRODID:-//eventon.com NONSGML v1.0//EN
CALSCALE:GREGORIAN
METHOD:PUBLISH
BEGIN:VEVENT
UID:69e734bc9b443
DTSTAMP:20260421T082636
DTSTART:20170220T091500Z
DTEND:20170220T003000Z
TZID:UTC
LOCATION:
SUMMARY:Basic Life Support CPR Course
DESCRIPTION:Our open course per person cost is £35.00 plus VAT For competitive group prices call the office on (028) 9122 8101 NDFA Training is committed to highlighting workplace / Sporting or Community deaths due to Cardiac Arrest on our First Aid courses. To give someone the best chance of surviving a Cardiac[..]\nhttps://ndfatraining.co.uk/events/basic-life-support-cpr-course-11/
URL:https://ndfatraining.co.uk/events/basic-life-support-cpr-course-11/
END:VEVENT
END:VCALENDAR