BEGIN:VCALENDAR
VERSION:2.0
PRODID:-//eventon.com NONSGML v1.0//EN
CALSCALE:GREGORIAN
METHOD:PUBLISH
BEGIN:VEVENT
UID:69e7341dc5b45
DTSTAMP:20260421T082357
DTSTART:20170801T091500Z
DTEND:20170801T163000Z
TZID:UTC
LOCATION:
SUMMARY:HSENI Emergency First Aid at work
DESCRIPTION:Our open course per person cost is £70.00 plus VAT For competitive group prices call the office on (028) 9122 8101 This is a HSENI  Emergency First Aid at Work which has been adapted to suit a particular audience and is an ideal course for lower risk businesses in accordance[..]\nhttps://ndfatraining.co.uk/events/hseni-emergency-first-aid-work-8/
URL:https://ndfatraining.co.uk/events/hseni-emergency-first-aid-work-8/
END:VEVENT
END:VCALENDAR