BEGIN:VCALENDAR
VERSION:2.0
PRODID:-//eventon.com NONSGML v1.0//EN
CALSCALE:GREGORIAN
METHOD:PUBLISH
BEGIN:VEVENT
UID:69e5e135ad6c8
DTSTAMP:20260420T081757
DTSTART:20171126T091500Z
DTEND:20171129T180000Z
TZID:UTC
LOCATION:
SUMMARY:Level 3 Award First Person On Scene Intermediate (RQF) Course
DESCRIPTION:* SORRY THIS COURSE IS NOW FULLY BOOKED* For competitive group prices call the office on (028) 9122 8101 NDFA Training organise First Person On Scene Intermediate courses every month at our training venue. The course meets the minimum requirement for the SIA for those wishing to work in Close Protection[..]\nhttps://ndfatraining.co.uk/events/level-3-award-first-person-scene-intermediate-rqf-course-4/
URL:https://ndfatraining.co.uk/events/level-3-award-first-person-scene-intermediate-rqf-course-4/
END:VEVENT
END:VCALENDAR