BEGIN:VCALENDAR
VERSION:2.0
PRODID:-//eventon.com NONSGML v1.0//EN
CALSCALE:GREGORIAN
METHOD:PUBLISH
BEGIN:VEVENT
UID:69e7340879909
DTSTAMP:20260421T082336
DTSTART:20180412T091500Z
DTEND:20180412T164500Z
TZID:UTC
LOCATION:
SUMMARY:Sports Related First Aid Course (SORRY FULLY BOOKED)
DESCRIPTION:Our open course per person cost is £70.00 plus VAT For competitive group prices call the office on (028) 9122 8101  Your Sport’s Governing body may have an Approved Codes of Practice (ACOP) in relation to Sports First Aid training\,  where a Sports First Aider is necessary a club may appoint a[..]\nhttps://ndfatraining.co.uk/events/sports-related-first-aid-course-sorry-fully-booked/
URL:https://ndfatraining.co.uk/events/sports-related-first-aid-course-sorry-fully-booked/
END:VEVENT
END:VCALENDAR