BEGIN:VCALENDAR
VERSION:2.0
PRODID:-//eventon.com NONSGML v1.0//EN
CALSCALE:GREGORIAN
METHOD:PUBLISH
BEGIN:VEVENT
UID:69e730dcba9f0
DTSTAMP:20260421T081004
DTSTART:20220208T091500Z
DTEND:20220222T163000Z
TZID:UTC
LOCATION:
SUMMARY:Level 3 Award First Aid at Work Course
DESCRIPTION:Our open course per person cost is £195.00 This course is over 3 weeks 1 day per week dates are: 8th-15th &amp; 22nd February 2022 For competitive group prices call the office on (028) 9122 8101   Please feel free to check out our 5 STAR reviews on Facebook. This is a recognised 3[..]\nhttps://ndfatraining.co.uk/events/level-3-award-first-aid-at-work-course-5/
URL:https://ndfatraining.co.uk/events/level-3-award-first-aid-at-work-course-5/
END:VEVENT
END:VCALENDAR