BEGIN:VCALENDAR
VERSION:2.0
PRODID:-//eventon.com NONSGML v1.0//EN
CALSCALE:GREGORIAN
METHOD:PUBLISH
BEGIN:VEVENT
UID:69e7349d7140f
DTSTAMP:20260421T082605
DTSTART:20200406T093000Z
DTEND:20200406T163000Z
TZID:UTC
LOCATION:
SUMMARY:Emergency First Aid at Work Course
DESCRIPTION:Our open course per person cost is £90.00. For competitive group prices call the office on (028) 9122 8101. Please feel free to check out our 5 STAR reviews on Facebook! This is an Emergency First Aid at Work (EFAW) which has been adapted to suit a particular audience and[..]\nhttps://ndfatraining.co.uk/events/emergency-first-aid-at-work-course-17/
URL:https://ndfatraining.co.uk/events/emergency-first-aid-at-work-course-17/
END:VEVENT
END:VCALENDAR